BEGIN:VCALENDAR
VERSION:2.0
PRODID:-//Generations Classic Country Band - ECPv6.15.19//NONSGML v1.0//EN
CALSCALE:GREGORIAN
METHOD:PUBLISH
X-WR-CALNAME:Generations Classic Country Band
X-ORIGINAL-URL:https://generationsccband.com
X-WR-CALDESC:Events for Generations Classic Country Band
REFRESH-INTERVAL;VALUE=DURATION:PT1H
X-Robots-Tag:noindex
X-PUBLISHED-TTL:PT1H
BEGIN:VTIMEZONE
TZID:America/Chicago
BEGIN:DAYLIGHT
TZOFFSETFROM:-0600
TZOFFSETTO:-0500
TZNAME:CDT
DTSTART:20250309T080000
END:DAYLIGHT
BEGIN:STANDARD
TZOFFSETFROM:-0500
TZOFFSETTO:-0600
TZNAME:CST
DTSTART:20251102T070000
END:STANDARD
BEGIN:DAYLIGHT
TZOFFSETFROM:-0600
TZOFFSETTO:-0500
TZNAME:CDT
DTSTART:20260308T080000
END:DAYLIGHT
BEGIN:STANDARD
TZOFFSETFROM:-0500
TZOFFSETTO:-0600
TZNAME:CST
DTSTART:20261101T070000
END:STANDARD
BEGIN:DAYLIGHT
TZOFFSETFROM:-0600
TZOFFSETTO:-0500
TZNAME:CDT
DTSTART:20270314T080000
END:DAYLIGHT
BEGIN:STANDARD
TZOFFSETFROM:-0500
TZOFFSETTO:-0600
TZNAME:CST
DTSTART:20271107T070000
END:STANDARD
END:VTIMEZONE
BEGIN:VEVENT
DTSTART;TZID=America/Chicago:20260321T180000
DTEND;TZID=America/Chicago:20260321T210000
DTSTAMP:20260420T031902
CREATED:20260304T224748Z
LAST-MODIFIED:20260307T191010Z
UID:423-1774116000-1774126800@generationsccband.com
SUMMARY:The Putting Mill - Spring Branch\, TX
DESCRIPTION:We’re headed to a brand-new venue and we want to see it packed. \nJoin Generations Classic Country Band on Saturday\, March 21st from 6:00–9:00 PM at The Putting Mill in Spring Branch. \nThe Putting Mill just celebrated its grand opening and is testing live music this month. If the crowd shows up and shows out\, they’ll keep the music rolling — so let’s help make that happen. \nThis is a great chance to: \n\nCheck out a brand-new local spot\nSupport live country music in Spring Branch\nEnjoy an evening of classic country favorites\nGrab some food and drinks\nPlay putt-putt or pickleball while you’re there\nBe part of something getting started from the ground up\n\nBring your friends\, grab a drink\, and come hang with us from 6–9 PM. Let’s pack the place and make it a night they won’t forget.
URL:https://generationsccband.com/show/the-putting-mill-spring-branch-tx/
LOCATION:The Putting Mill\, 105 Mitchell Dr.\, Spring Branch\, TX\, 78070\, United States
ATTACH;FMTTYPE=image/png:https://generationsccband.com/wp-content/uploads/2026/03/IMG_20260307_122050.png
END:VEVENT
END:VCALENDAR